Workbook

Sheet 支部用
A1: 2026年度版 | C1: 中央区軟式野球大会チーム登録票
A2: 支部提出用
A3: 部別 | C3: フリガナ
C4: チーム名
A6: 支部登録番号 | C6: チーム | D6: 〒
C7: 所在地
A9: 通信責任者 | C9: 氏名
C10: 住所
C11: 連絡先
C12: E-mail
A13: NO | B13: 背番号 | C13: 氏名 | F13: 生年月日(西暦）
A14: 1 | B14: 30（監督）
A15: 2 | B15: 10（主将）
A16: 3
A17: 4
A18: 5
A19: 6
A20: 7
A21: 8
A22: 9
A23: 10
A24: 11
A25: 12
A26: 13
A27: 14
... A38: 25

Sheet チーム用
A1: 2026年度版 | C1: 中央区軟式野球大会チーム登録票
A2: チーム用
A3: 部別 | C3: フリガナ | D3: =IF(ISBLANK(支部用!D3),"",支部用!D3)
C4: チーム名 | D4: =IF(ISBLANK(支部用!D4),"",支部用!D4)
D5: =IF(ISBLANK(支部用!D5),"",支部用!D5)
A6: 支部登録番号 | C6: チーム | D6: =IF(ISBLANK(支部用!D6),"",支部用!D6) -> 〒
C7: 所在地 | D7: =IF(ISBLANK(支部用!D7),"",支部用!D7)
D8: =IF(ISBLANK(支部用!D8),"",支部用!D8)
A9: 通信責任者 | C9: 氏名 | D9: =IF(ISBLANK(支部用!D9),"",支部用!D9)
C10: 住所 | D10: =IF(ISBLANK(支部用!D10),"",支部用!D10)
C11: 連絡先 | D11: =IF(ISBLANK(支部用!D11),"",支部用!D11)
C12: E-mail | D12: =IF(ISBLANK(支部用!D12),"",支部用!D12)
A13: NO | B13: 背番号 | C13: 氏名 | F13: 生年月日(西暦）
A14: 1 | B14: 30（監督） | C14: =IF(ISBLANK(支部用!C14),"",支部用!C14) | F14: =IF(ISBLANK(支部用!F14),"",支部用!F14)
A15: 2 | B15: 10（主将） | C15: =IF(ISBLANK(支部用!C15),"",支部用!C15) | F15: =IF(ISBLANK(支部用!F15),"",支部用!F15)
A16: 3 | B16: =IF(ISBLANK(支部用!B16),"",支部用!B16) | C16: =IF(ISBLANK(支部用!C16),"",支部用!C16) | F16: =IF(ISBLANK(支部用!F16),"",支部用!F16)
A17: 4 | B17: =IF(ISBLANK(支部用!B17),"",支部用!B17) | C17: =IF(ISBLANK(支部用!C17),"",支部用!C17) | F17: =IF(ISBLANK(支部用!F17),"",支部用!F17)
A18: 5 | B18: =IF(ISBLANK(支部用!B18),"",支部用!B18) | C18: =IF(ISBLANK(支部用!C18),"",支部用!C18) | F18: =IF(ISBLANK(支部用!F18),"",支部用!F18)
A19: 6 | B19: =IF(ISBLANK(支部用!B19),"",支部用!B19) | C19: =IF(ISBLANK(支部用!C19),"",支部用!C19) | F19: =IF(ISBLANK(支部用!F19),"",支部用!F19)
A20: 7 | B20: =IF(ISBLANK(支部用!B20),"",支部用!B20) | C20: =IF(ISBLANK(支部用!C20),"",支部用!C20) | F20: =IF(ISBLANK(支部用!F20),"",支部用!F20)
A21: 8 | B21: =IF(ISBLANK(支部用!B21),"",支部用!B21) | C21: =IF(ISBLANK(支部用!C21),"",支部用!C21) | F21: =IF(ISBLANK(支部用!F21),"",支部用!F21)
A22: 9 | B22: =IF(ISBLANK(支部用!B22),"",支部用!B22) | C22: =IF(ISBLANK(支部用!C22),"",支部用!C22) | F22: =IF(ISBLANK(支部用!F22),"",支部用!F22)
A23: 10 | B23: =IF(ISBLANK(支部用!B23),"",支部用!B23) | C23: =IF(ISBLANK(支部用!C23),"",支部用!C23) | F23: =IF(ISBLANK(支部用!F23),"",支部用!F23)
A24: 11 | B24: =IF(ISBLANK(支部用!B24),"",支部用!B24) | C24: =IF(ISBLANK(支部用!C24),"",支部用!C24) | F24: =IF(ISBLANK(支部用!F24),"",支部用!F24)
A25: 12 | B25: =IF(ISBLANK(支部用!B25),"",支部用!B25) | C25: =IF(ISBLANK(支部用!C25),"",支部用!C25) | F25: =IF(ISBLANK(支部用!F25),"",支部用!F25)
A26: 13 | B26: =IF(ISBLANK(支部用!B26),"",支部用!B26) | C26: =IF(ISBLANK(支部用!C26),"",支部用!C26) | F26: =IF(ISBLANK(支部用!F26),"",支部用!F26)
A27: 14 | B27: =IF(ISBLANK(支部用!B27),"",支部用!B27) | C27: =IF(ISBLANK(支部用!C27),"",支部用!C27) | F27: =IF(ISBLANK(支部用!F27),"",支部用!F27)
... A38: 25 | B38: =IF(ISBLANK(支部用!B38),"",支部用!B38) | C38: =IF(ISBLANK(支部用!C38),"",支部用!C38) | F38: =IF(ISBLANK(支部用!F38),"",支部用!F38)
